BEGIN:VCALENDAR
PRODID:-//hacksw/handcal//NONSGML v1.0//EN
VERSION:2.0
METHOD:PUBLISH
BEGIN:VEVENT
DTSTART:20261118T210000Z
DTEND:20261118T230000Z
LOCATION:
UID:2779520261118T210000ZColorado West Estate Planning Council Fall Meeting
DTSTAMP:20260421T113758Z
DESCRIPTION:\nDetails to Follow!!\n
SUMMARY:Colorado West Estate Planning Council Fall Meeting - Colorado West Estate Planning Council 
PRIORITY:3
BEGIN:VALARM
TRIGGER:PT18H
ACTION:DISPLAY
DESCRIPTION:Reminder
END:VALARM
END:VEVENT
END:VCALENDAR