BEGIN:VCALENDAR
PRODID:-//hacksw/handcal//NONSGML v1.0//EN
VERSION:2.0
METHOD:PUBLISH
BEGIN:VEVENT
DTSTART:20260826T203000Z
DTEND:20260826T220000Z
LOCATION:
UID:2779420260826T203000ZColorado West Estate Planning Council Summer Service Project
DTSTAMP:20260421T113702Z
DESCRIPTION:\nMore Details to Follow!!\n
SUMMARY:Colorado West Estate Planning Council Summer Service Project - Colorado West Estate Planning Council 
PRIORITY:3
BEGIN:VALARM
TRIGGER:PT18H
ACTION:DISPLAY
DESCRIPTION:Reminder
END:VALARM
END:VEVENT
END:VCALENDAR