BEGIN:VCALENDAR
PRODID:-//hacksw/handcal//NONSGML v1.0//EN
VERSION:2.0
METHOD:PUBLISH
BEGIN:VEVENT
DTSTART:20260520T203000Z
DTEND:20260520T220000Z
LOCATION:
UID:2779320260520T203000ZColorado West Estate Planning Council Spring Meeting
DTSTAMP:20260421T114602Z
DESCRIPTION:\nMore Details to Follow!\n
SUMMARY:Colorado West Estate Planning Council Spring Meeting - Colorado West Estate Planning Council 
PRIORITY:3
BEGIN:VALARM
TRIGGER:PT18H
ACTION:DISPLAY
DESCRIPTION:Reminder
END:VALARM
END:VEVENT
END:VCALENDAR